BEGIN:VCALENDAR
VERSION:2.0
PRODID:-//hacksw/handcal//NONSGML v1.0//EN
CALSCALE:GREGORIAN
BEGIN:VEVENT
LOCATION:
DESCRIPTION:
DTSTART:20260422T200000Z
DTEND:20260422T210000Z
SUMMARY:Wood Working Club: Woodshop
URL;VALUE=URI:https://www.glenbardsouthhs.org/event/wood-working-club-woodshop-33/
DTSTAMP:20260422T034256Z
UID:69e843c0e15e5
END:VEVENT
END:VCALENDAR