BEGIN:VCALENDAR
VERSION:2.0
PRODID:-//hacksw/handcal//NONSGML v1.0//EN
CALSCALE:GREGORIAN
BEGIN:VEVENT
LOCATION:
DESCRIPTION:
DTSTART:20260426T003000Z
DTEND:20260426T023000Z
SUMMARY:Spring Musical: All Shook Up Performance 7:30pm
URL;VALUE=URI:https://www.glenbardsouthhs.org/event/spring-musical-performance-14/
DTSTAMP:20260425T105100Z
UID:69ec9c945dc39
END:VEVENT
END:VCALENDAR