BEGIN:VCALENDAR
VERSION:2.0
PRODID:-//hacksw/handcal//NONSGML v1.0//EN
CALSCALE:GREGORIAN
BEGIN:VEVENT
LOCATION:
DESCRIPTION:
DTSTART:20260425T003000Z
DTEND:20260425T023000Z
SUMMARY:Spring Musical: All Shook Up Performance 7:30pm
URL;VALUE=URI:https://www.glenbardsouthhs.org/event/spring-musical-performance-13/
DTSTAMP:20260424T064543Z
UID:69eb1197c9472
END:VEVENT
END:VCALENDAR