BEGIN:VCALENDAR
VERSION:2.0
PRODID:-//hacksw/handcal//NONSGML v1.0//EN
CALSCALE:GREGORIAN
BEGIN:VEVENT
LOCATION:
DESCRIPTION:
DTSTART:20220126T114500Z
DTEND:20220126T140000Z
SUMMARY:Raider Class Act : Auditorium
URL;VALUE=URI:https://www.glenbardsouthhs.org/event/raider-class-act-auditorium/
DTSTAMP:20260425T114949Z
UID:69ecaa5ddc624
END:VEVENT
END:VCALENDAR