BEGIN:VCALENDAR
VERSION:2.0
PRODID:-//hacksw/handcal//NONSGML v1.0//EN
CALSCALE:GREGORIAN
BEGIN:VEVENT
LOCATION:
DESCRIPTION:
DTSTART:20211101T190000Z
DTEND:20211101T200000Z
SUMMARY:PLC Student Early Dismissal 1:52
URL;VALUE=URI:https://www.glenbardsouthhs.org/event/plc-student-early-dismissal-152-12/
DTSTAMP:20260424T052742Z
UID:69eaff4e3cf03
END:VEVENT
END:VCALENDAR