BEGIN:VCALENDAR
VERSION:2.0
PRODID:-//hacksw/handcal//NONSGML v1.0//EN
CALSCALE:GREGORIAN
BEGIN:VEVENT
LOCATION:
DESCRIPTION:
DTSTART:20220831T180000Z
DTEND:20220831T200000Z
SUMMARY:Picture Retakes : Champion Hallway
URL;VALUE=URI:https://www.glenbardsouthhs.org/event/picture-retakes-champion-hallway/
DTSTAMP:20260421T233404Z
UID:69e8096cb8f14
END:VEVENT
END:VCALENDAR