BEGIN:VCALENDAR
VERSION:2.0
PRODID:-//hacksw/handcal//NONSGML v1.0//EN
CALSCALE:GREGORIAN
BEGIN:VEVENT
LOCATION:
DESCRIPTION:
DTSTART:20220117T000000Z
DTEND:20220117T000000Z
SUMMARY:No School- Martin Luther King Day
URL;VALUE=URI:https://www.glenbardsouthhs.org/event/no-school-martin-luther-king-day-7/
DTSTAMP:20260421T102106Z
UID:69e74f927c8f1
END:VEVENT
END:VCALENDAR