BEGIN:VCALENDAR
VERSION:2.0
PRODID:-//hacksw/handcal//NONSGML v1.0//EN
CALSCALE:GREGORIAN
BEGIN:VEVENT
LOCATION:
DESCRIPTION:
DTSTART:20250422T193000Z
DTEND:20250422T200000Z
SUMMARY:Mock Trail: Faculty Cafe
URL;VALUE=URI:https://www.glenbardsouthhs.org/event/mock-trail-faculty-cafe-11/
DTSTAMP:20260424T121237Z
UID:69eb5e35a7a33
END:VEVENT
END:VCALENDAR