BEGIN:VCALENDAR
VERSION:2.0
PRODID:-//hacksw/handcal//NONSGML v1.0//EN
CALSCALE:GREGORIAN
BEGIN:VEVENT
LOCATION:
DESCRIPTION:
DTSTART:20260420T200000Z
DTEND:20260420T210000Z
SUMMARY:Math Team Practice Rm 205A
URL;VALUE=URI:https://www.glenbardsouthhs.org/event/math-team-practice-rm-205a-59/
DTSTAMP:20260419T120430Z
UID:69e4c4ce33de3
END:VEVENT
END:VCALENDAR