BEGIN:VCALENDAR
VERSION:2.0
PRODID:-//hacksw/handcal//NONSGML v1.0//EN
CALSCALE:GREGORIAN
BEGIN:VEVENT
LOCATION:
DESCRIPTION:
DTSTART:20240523T233000Z
DTEND:20240524T010000Z
SUMMARY:Glenbard South Commencment
URL;VALUE=URI:https://www.glenbardsouthhs.org/event/glenbard-south-commencment/
DTSTAMP:20260420T223748Z
UID:69e6aabccb42c
END:VEVENT
END:VCALENDAR