BEGIN:VCALENDAR
VERSION:2.0
PRODID:-//hacksw/handcal//NONSGML v1.0//EN
CALSCALE:GREGORIAN
BEGIN:VEVENT
LOCATION:
DESCRIPTION:
DTSTART:20260424T000000Z
DTEND:20260424T000000Z
SUMMARY:Glenbard South Building Calendar
URL;VALUE=URI:https://www.glenbardsouthhs.org/event/glenbard-south-building-calendar-37/
DTSTAMP:20260424T062331Z
UID:69eb0c63f31be
END:VEVENT
END:VCALENDAR