BEGIN:VCALENDAR
VERSION:2.0
PRODID:-//hacksw/handcal//NONSGML v1.0//EN
CALSCALE:GREGORIAN
BEGIN:VEVENT
LOCATION:308
DESCRIPTION:
DTSTART:20220819T193000Z
DTEND:20220819T203000Z
SUMMARY:FMPC Informational Meeting
URL;VALUE=URI:https://www.glenbardsouthhs.org/event/fmpc-informational-meeting/
DTSTAMP:20260420T033858Z
UID:69e59fd253e3a
END:VEVENT
END:VCALENDAR