BEGIN:VCALENDAR
VERSION:2.0
PRODID:-//hacksw/handcal//NONSGML v1.0//EN
CALSCALE:GREGORIAN
BEGIN:VEVENT
LOCATION:
DESCRIPTION:
DTSTART:20260421T123000Z
DTEND:20260421T130000Z
SUMMARY:DECA Business Club RM 210
URL;VALUE=URI:https://www.glenbardsouthhs.org/event/deca-business-club-rm-210-34/
DTSTAMP:20260421T111338Z
UID:69e75be2ed7b2
END:VEVENT
END:VCALENDAR