BEGIN:VCALENDAR
VERSION:2.0
PRODID:-//hacksw/handcal//NONSGML v1.0//EN
CALSCALE:GREGORIAN
BEGIN:VEVENT
LOCATION:
DESCRIPTION:
DTSTART:20240917T200000Z
DTEND:20240917T220000Z
SUMMARY:Chess Club
URL;VALUE=URI:https://www.glenbardsouthhs.org/event/chess-club-2/
DTSTAMP:20260424T101807Z
UID:69eb435fc5a5d
END:VEVENT
END:VCALENDAR