BEGIN:VCALENDAR
VERSION:2.0
PRODID:-//hacksw/handcal//NONSGML v1.0//EN
CALSCALE:GREGORIAN
BEGIN:VEVENT
LOCATION:
DESCRIPTION:
DTSTART:20260425T140000Z
DTEND:20260425T170000Z
SUMMARY:Booster's Plant Sale Pick Up: Bus Canopy
URL;VALUE=URI:https://www.glenbardsouthhs.org/event/boosters-plant-sale-pick-up-bus-canopy/
DTSTAMP:20260425T103948Z
UID:69ec99f404c7e
END:VEVENT
END:VCALENDAR