BEGIN:VCALENDAR
VERSION:2.0
PRODID:-//hacksw/handcal//NONSGML v1.0//EN
CALSCALE:GREGORIAN
BEGIN:VEVENT
LOCATION:
DESCRIPTION:
DTSTART:20210224T150000Z
DTEND:20210225T010000Z
SUMMARY:Booster's Fundraiser
URL;VALUE=URI:https://www.glenbardsouthhs.org/event/boosters-fundraiser-4/
DTSTAMP:20260423T143442Z
UID:69ea2e02c19eb
END:VEVENT
END:VCALENDAR