BEGIN:VCALENDAR
VERSION:2.0
PRODID:-//hacksw/handcal//NONSGML v1.0//EN
CALSCALE:GREGORIAN
BEGIN:VEVENT
LOCATION:
DESCRIPTION:
DTSTART:20240813T200000Z
DTEND:20240813T223000Z
SUMMARY:Back to School Week Make up Registration
URL;VALUE=URI:https://www.glenbardsouthhs.org/event/back-to-school-week-make-up-registration/
DTSTAMP:20260422T073609Z
UID:69e87a690664a
END:VEVENT
END:VCALENDAR